{
 "currentVersion": 10.81,
 "serviceDescription": "KIOSKSECURE/OSEP1x0500",
 "name": "KIOSKSECURE/OSEP1x0500",
 "description": "",
 "extent": {
  "xmin": 424000.018554898,
  "ymin": 562000.0379667704,
  "xmax": 427000.015554898,
  "ymax": 565000.0319667701,
  "spatialReference": {
   "wkid": 27700,
   "latestWkid": 27700
  }
 },
 "initialExtent": {
  "xmin": 424000.018554898,
  "ymin": 562000.0379667704,
  "xmax": 427000.015554898,
  "ymax": 565000.0319667701,
  "spatialReference": {
   "wkid": 27700,
   "latestWkid": 27700
  }
 },
 "fullExtent": {
  "xmin": 424000.018554898,
  "ymin": 562000.0379667704,
  "xmax": 427000.015554898,
  "ymax": 565000.0319667701,
  "spatialReference": {
   "wkid": 27700,
   "latestWkid": 27700
  }
 },
 "pixelSizeX": 0.11550000000000124,
 "pixelSizeY": 0.11549988449987353,
 "bandCount": 3,
 "pixelType": "U8",
 "minPixelSize": 0,
 "maxPixelSize": 0,
 "copyrightText": "",
 "serviceDataType": "esriImageServiceDataTypeRGB",
 "minValues": [
  0,
  0,
  0
 ],
 "maxValues": [
  255,
  255,
  255
 ],
 "meanValues": [
  252.0408720406988,
  252.0408720406988,
  252.0408720406988
 ],
 "stdvValues": [
  26.13531756467636,
  26.13531756467636,
  26.13531756467636
 ],
 "objectIdField": "",
 "fields": [],
 "capabilities": "Image,Metadata,Mensuration",
 "defaultMosaicMethod": "Center",
 "allowedMosaicMethods": "",
 "sortField": "",
 "sortValue": null,
 "sortAscending": true,
 "mosaicOperator": "First",
 "defaultCompressionQuality": 75,
 "defaultResamplingMethod": "Bilinear",
 "maxImageHeight": 4100,
 "maxImageWidth": 15000,
 "allowRasterFunction": true,
 "rasterFunctionInfos": [
  {
   "name": "None",
   "description": "",
   "help": ""
  }
 ],
 "rasterTypeInfos": [
  {
   "name": "Raster Dataset",
   "description": "Supports all ArcGIS Raster Datasets",
   "help": ""
  }
 ],
 "mensurationCapabilities": "Basic",
 "hasHistograms": true,
 "hasColormap": false,
 "hasRasterAttributeTable": false,
 "minScale": 0,
 "maxScale": 0,
 "exportTilesAllowed": false,
 "hasMultidimensions": false,
 "supportsStatistics": false,
 "supportsAdvancedQueries": false,
 "editFieldsInfo": null,
 "ownershipBasedAccessControlForRasters": null,
 "allowComputeTiePoints": false,
 "useStandardizedQueries": true,
 "advancedQueryCapabilities": {
  "useStandardizedQueries": true,
  "supportsStatistics": false,
  "supportsOrderBy": false,
  "supportsDistinct": false,
  "supportsPagination": false
 },
 "spatialReference": {
  "wkid": 27700,
  "latestWkid": 27700
 }
}
