{
 "currentVersion": 11.5,
 "serviceDescription": "KIOSKSECURE/OSEP3x10560",
 "serviceItemId": "179715ad358942de87733cd8cacbd358",
 "name": "KIOSKSECURE/OSEP3x10560",
 "description": "",
 "extent": {
  "xmin": 404999.6152215041,
  "ymin": 550000.2005517534,
  "xmax": 439999.6152215041,
  "ymax": 570000.2005517534,
  "spatialReference": {
   "wkt2": "PROJCRS[\"OSGB_1936_Transverse_Mercator\",BASEGEOGCRS[\"GCS_OSGB_1936\",DATUM[\"D_OSGB_1936\",ELLIPSOID[\"Airy_1830\",6377563.396,299.3249646,LENGTHUNIT[\"Meter\",1.0]]],PRIMEM[\"Greenwich\",0.0,ANGLEUNIT[\"Degree\",0.0174532925199433]],CS[ellipsoidal,2],AXIS[\"Latitude (lat)\",north,ORDER[1]],AXIS[\"Longitude (lon)\",east,ORDER[2]],ANGLEUNIT[\"Degree\",0.0174532925199433]],CONVERSION[\"Transverse_Mercator\",METHOD[\"Transverse_Mercator\"],PARAMETER[\"false_easting\",400000.0,LENGTHUNIT[\"Meter\",1.0]],PARAMETER[\"false_northing\",-100000.0,LENGTHUNIT[\"Meter\",1.0]],PARAMETER[\"central_meridian\",-2.0,ANGLEUNIT[\"Degree\",0.0174532925199433]],PARAMETER[\"scale_factor\",0.9996012717,SCALEUNIT[\"Unity\",1.0]],PARAMETER[\"latitude_of_origin\",49.0,ANGLEUNIT[\"Degree\",0.0174532925199433]]],CS[Cartesian,2],AXIS[\"Easting (X)\",east,ORDER[1]],AXIS[\"Northing (Y)\",north,ORDER[2]],LENGTHUNIT[\"Meter\",1.0]]",
   "wkt": "PROJCS[\"OSGB_1936_Transverse_Mercator\",GEOGCS[\"GCS_OSGB_1936\",DATUM[\"D_OSGB_1936\",SPHEROID[\"Airy_1830\",6377563.396,299.3249646]],PRIMEM[\"Greenwich\",0.0],UNIT[\"Degree\",0.0174532925199433]],PROJECTION[\"Transverse_Mercator\"],PARAMETER[\"false_easting\",400000.0],PARAMETER[\"false_northing\",-100000.0],PARAMETER[\"central_meridian\",-2.0],PARAMETER[\"scale_factor\",0.9996012717],PARAMETER[\"latitude_of_origin\",49.0],UNIT[\"Meter\",1.0]]"
  }
 },
 "initialExtent": {
  "xmin": 404999.6152215041,
  "ymin": 550000.2005517534,
  "xmax": 439999.6152215041,
  "ymax": 570000.2005517534,
  "spatialReference": {
   "wkt2": "PROJCRS[\"OSGB_1936_Transverse_Mercator\",BASEGEOGCRS[\"GCS_OSGB_1936\",DATUM[\"D_OSGB_1936\",ELLIPSOID[\"Airy_1830\",6377563.396,299.3249646,LENGTHUNIT[\"Meter\",1.0]]],PRIMEM[\"Greenwich\",0.0,ANGLEUNIT[\"Degree\",0.0174532925199433]],CS[ellipsoidal,2],AXIS[\"Latitude (lat)\",north,ORDER[1]],AXIS[\"Longitude (lon)\",east,ORDER[2]],ANGLEUNIT[\"Degree\",0.0174532925199433]],CONVERSION[\"Transverse_Mercator\",METHOD[\"Transverse_Mercator\"],PARAMETER[\"false_easting\",400000.0,LENGTHUNIT[\"Meter\",1.0]],PARAMETER[\"false_northing\",-100000.0,LENGTHUNIT[\"Meter\",1.0]],PARAMETER[\"central_meridian\",-2.0,ANGLEUNIT[\"Degree\",0.0174532925199433]],PARAMETER[\"scale_factor\",0.9996012717,SCALEUNIT[\"Unity\",1.0]],PARAMETER[\"latitude_of_origin\",49.0,ANGLEUNIT[\"Degree\",0.0174532925199433]]],CS[Cartesian,2],AXIS[\"Easting (X)\",east,ORDER[1]],AXIS[\"Northing (Y)\",north,ORDER[2]],LENGTHUNIT[\"Meter\",1.0]]",
   "wkt": "PROJCS[\"OSGB_1936_Transverse_Mercator\",GEOGCS[\"GCS_OSGB_1936\",DATUM[\"D_OSGB_1936\",SPHEROID[\"Airy_1830\",6377563.396,299.3249646]],PRIMEM[\"Greenwich\",0.0],UNIT[\"Degree\",0.0174532925199433]],PROJECTION[\"Transverse_Mercator\"],PARAMETER[\"false_easting\",400000.0],PARAMETER[\"false_northing\",-100000.0],PARAMETER[\"central_meridian\",-2.0],PARAMETER[\"scale_factor\",0.9996012717],PARAMETER[\"latitude_of_origin\",49.0],UNIT[\"Meter\",1.0]]"
  }
 },
 "fullExtent": {
  "xmin": 404999.6152215041,
  "ymin": 550000.2005517534,
  "xmax": 439999.6152215041,
  "ymax": 570000.2005517534,
  "spatialReference": {
   "wkt2": "PROJCRS[\"OSGB_1936_Transverse_Mercator\",BASEGEOGCRS[\"GCS_OSGB_1936\",DATUM[\"D_OSGB_1936\",ELLIPSOID[\"Airy_1830\",6377563.396,299.3249646,LENGTHUNIT[\"Meter\",1.0]]],PRIMEM[\"Greenwich\",0.0,ANGLEUNIT[\"Degree\",0.0174532925199433]],CS[ellipsoidal,2],AXIS[\"Latitude (lat)\",north,ORDER[1]],AXIS[\"Longitude (lon)\",east,ORDER[2]],ANGLEUNIT[\"Degree\",0.0174532925199433]],CONVERSION[\"Transverse_Mercator\",METHOD[\"Transverse_Mercator\"],PARAMETER[\"false_easting\",400000.0,LENGTHUNIT[\"Meter\",1.0]],PARAMETER[\"false_northing\",-100000.0,LENGTHUNIT[\"Meter\",1.0]],PARAMETER[\"central_meridian\",-2.0,ANGLEUNIT[\"Degree\",0.0174532925199433]],PARAMETER[\"scale_factor\",0.9996012717,SCALEUNIT[\"Unity\",1.0]],PARAMETER[\"latitude_of_origin\",49.0,ANGLEUNIT[\"Degree\",0.0174532925199433]]],CS[Cartesian,2],AXIS[\"Easting (X)\",east,ORDER[1]],AXIS[\"Northing (Y)\",north,ORDER[2]],LENGTHUNIT[\"Meter\",1.0]]",
   "wkt": "PROJCS[\"OSGB_1936_Transverse_Mercator\",GEOGCS[\"GCS_OSGB_1936\",DATUM[\"D_OSGB_1936\",SPHEROID[\"Airy_1830\",6377563.396,299.3249646]],PRIMEM[\"Greenwich\",0.0],UNIT[\"Degree\",0.0174532925199433]],PROJECTION[\"Transverse_Mercator\"],PARAMETER[\"false_easting\",400000.0],PARAMETER[\"false_northing\",-100000.0],PARAMETER[\"central_meridian\",-2.0],PARAMETER[\"scale_factor\",0.9996012717],PARAMETER[\"latitude_of_origin\",49.0],UNIT[\"Meter\",1.0]]"
  }
 },
 "sortableFields": "",
 "bandCount": 1,
 "pixelType": "U8",
 "minValues": [],
 "maxValues": [],
 "meanValues": [],
 "stdvValues": [],
 "serviceProperties": "Center<\/MosaicMethod>First<\/MosaicOperator>true<\/SortAscending><\/LockImageID><\/TileOrderField>0<\/TileOrderBase>0.000000<\/AvgImageSpacingX>0.000000<\/AvgImageSpacingY>0.0<\/ViewPointX>0.0<\/ViewPointY>0.0<\/ViewPointDefShiftX>0.0<\/ViewPointDefShiftY>None<\/CompressionMethod>75<\/CompressionQuality>0.010000<\/CompressionTolerance>Bilinear<\/SamplingMethod><\/ImageServiceProperties><\/ImageServer>",
 "allowedFields": "",
 "hasMultidimensions": false,
 "pixelSizeX": 0.8333333333333334,
 "pixelSizeY": 0.8333333333333334,
 "meanPixelSize": 0.8333333333333334,
 "datasetFormat": "FGDBR",
 "uncompressedSize": 1008000000,
 "blockWidth": 128,
 "blockHeight": 128,
 "compressionType": "LZ77",
 "bandNames": [
  "Band_1"
 ],
 "allowCopy": true,
 "allowAnalysis": true,
 "itemAccess": false,
 "inspectionCapabilities": "",
 "minPixelSize": 0,
 "maxPixelSize": 0,
 "copyrightText": "",
 "serviceDataType": "esriImageServiceDataTypeThematic",
 "serviceSourceType": "esriImageServiceSourceTypeDataset",
 "objectIdField": "",
 "fields": [],
 "capabilities": "Image,Metadata,Mensuration",
 "defaultMosaicMethod": "Center",
 "allowedMosaicMethods": "",
 "sortField": "",
 "sortValue": null,
 "sortAscending": true,
 "mosaicOperator": "First",
 "defaultCompressionQuality": 75,
 "defaultResamplingMethod": "Bilinear",
 "maxImageHeight": 4100,
 "maxImageWidth": 15000,
 "allowRasterFunction": true,
 "rasterFunctionInfos": [
  {
   "name": "None",
   "description": "",
   "help": ""
  }
 ],
 "rasterTypeInfos": [
  {
   "name": "Raster Dataset",
   "description": "Supports all ArcGIS Raster Datasets",
   "help": ""
  }
 ],
 "mensurationCapabilities": "Basic",
 "hasHistograms": false,
 "hasColormap": false,
 "hasRasterAttributeTable": false,
 "minScale": 0,
 "maxScale": 0,
 "exportTilesAllowed": false,
 "supportsStatistics": false,
 "supportsAdvancedQueries": false,
 "editFieldsInfo": null,
 "ownershipBasedAccessControlForRasters": null,
 "allowComputeTiePoints": false,
 "useStandardizedQueries": true,
 "advancedQueryCapabilities": {
  "useStandardizedQueries": true,
  "supportsStatistics": false,
  "supportsOrderBy": false,
  "supportsDistinct": false,
  "supportsPagination": false
 },
 "spatialReference": {
  "wkt2": "PROJCRS[\"OSGB_1936_Transverse_Mercator\",BASEGEOGCRS[\"GCS_OSGB_1936\",DATUM[\"D_OSGB_1936\",ELLIPSOID[\"Airy_1830\",6377563.396,299.3249646,LENGTHUNIT[\"Meter\",1.0]]],PRIMEM[\"Greenwich\",0.0,ANGLEUNIT[\"Degree\",0.0174532925199433]],CS[ellipsoidal,2],AXIS[\"Latitude (lat)\",north,ORDER[1]],AXIS[\"Longitude (lon)\",east,ORDER[2]],ANGLEUNIT[\"Degree\",0.0174532925199433]],CONVERSION[\"Transverse_Mercator\",METHOD[\"Transverse_Mercator\"],PARAMETER[\"false_easting\",400000.0,LENGTHUNIT[\"Meter\",1.0]],PARAMETER[\"false_northing\",-100000.0,LENGTHUNIT[\"Meter\",1.0]],PARAMETER[\"central_meridian\",-2.0,ANGLEUNIT[\"Degree\",0.0174532925199433]],PARAMETER[\"scale_factor\",0.9996012717,SCALEUNIT[\"Unity\",1.0]],PARAMETER[\"latitude_of_origin\",49.0,ANGLEUNIT[\"Degree\",0.0174532925199433]]],CS[Cartesian,2],AXIS[\"Easting (X)\",east,ORDER[1]],AXIS[\"Northing (Y)\",north,ORDER[2]],LENGTHUNIT[\"Meter\",1.0]]",
  "wkt": "PROJCS[\"OSGB_1936_Transverse_Mercator\",GEOGCS[\"GCS_OSGB_1936\",DATUM[\"D_OSGB_1936\",SPHEROID[\"Airy_1830\",6377563.396,299.3249646]],PRIMEM[\"Greenwich\",0.0],UNIT[\"Degree\",0.0174532925199433]],PROJECTION[\"Transverse_Mercator\"],PARAMETER[\"false_easting\",400000.0],PARAMETER[\"false_northing\",-100000.0],PARAMETER[\"central_meridian\",-2.0],PARAMETER[\"scale_factor\",0.9996012717],PARAMETER[\"latitude_of_origin\",49.0],UNIT[\"Meter\",1.0]]"
 }
}
