View In:
ArcGIS JavaScript
ArcGIS Online Map Viewer
ArcGIS Earth
Service Description: KIOSKSECURE/OSEP4x2500
Name: KIOSKSECURE/OSEP4x2500
Description:
Single Fused Map Cache: false
Extent:
XMin: 408999.9214534573
YMin: 552000.6988209637
XMax: 433999.2460352917
YMax: 566000.910550803
Spatial Reference: 27700
(27700)
LatestVCSWkid(0)
Initial Extent:
XMin: 408999.9214534573
YMin: 552000.6988209637
XMax: 433999.2460352917
YMax: 566000.910550803
Spatial Reference: 27700
(27700)
LatestVCSWkid(0)
Full Extent:
XMin: 408999.9214534573
YMin: 552000.6988209637
XMax: 433999.2460352917
YMax: 566000.910550803
Spatial Reference: 27700
(27700)
LatestVCSWkid(0)
Pixel Size X: 0.2115181029007054
Pixel Size Y: 0.2117298327335301
Band Count: 1
Pixel Type: U8
RasterFunction Infos: {"rasterFunctionInfos": [{
"name": "None",
"description": "",
"help": ""
}]}
Mensuration Capabilities: Basic
Inspection Capabilities:
Has Histograms: true
Has Colormap: false
Has Multi Dimensions : false
Rendering Rule:
Min Scale: 0
Max Scale: 0
Copyright Text:
Service Data Type: esriImageServiceDataTypeThematic
Min Values: 0
Max Values: 255
Mean Values: 241.32611583892026
Standard Deviation Values: 57.44445450692305
Object ID Field:
Fields:
None
Default Mosaic Method: Center
Allowed Mosaic Methods:
SortField:
SortValue: null
Mosaic Operator: First
Default Compression Quality: 75
Default Resampling Method: Bilinear
Max Record Count: null
Max Image Height: 4100
Max Image Width: 15000
Max Download Image Count: null
Max Mosaic Image Count: null
Allow Raster Function: true
Allow Copy: true
Allow Analysis: true
Allow Compute TiePoints: false
Supports Statistics: false
Supports Advanced Queries: false
Use StandardizedQueries: true
Raster Type Infos:
Name: Raster Dataset
Description: Supports all ArcGIS Raster Datasets
Help:
Has Raster Attribute Table: false
Edit Fields Info: null
Ownership Based AccessControl For Rasters: null
Child Resources:
Info
Histograms
Statistics
Key Properties
Legend
Raster Function Infos
Supported Operations:
Export Image
Identify
Measure
Compute Histograms
Compute Statistics Histograms
Get Samples
Compute Class Statistics
Query Boundary
Compute Pixel Location
Compute Angles
Validate
Project