View In:
ArcGIS JavaScript
ArcGIS Online Map Viewer
ArcGIS Earth
ArcMap
View Footprint In:
ArcGIS Online Map Viewer
Service Description: KIOSKSECURE/OSEP1x0500
Name: KIOSKSECURE/OSEP1x0500
Description:
Single Fused Map Cache: false
Extent:
XMin: 424000.018554898
YMin: 562000.0379667704
XMax: 427000.015554898
YMax: 565000.0319667701
Spatial Reference: 27700
(27700)
Initial Extent:
XMin: 424000.018554898
YMin: 562000.0379667704
XMax: 427000.015554898
YMax: 565000.0319667701
Spatial Reference: 27700
(27700)
Full Extent:
XMin: 424000.018554898
YMin: 562000.0379667704
XMax: 427000.015554898
YMax: 565000.0319667701
Spatial Reference: 27700
(27700)
Pixel Size X: 0.11550000000000124
Pixel Size Y: 0.11549988449987353
Band Count: 3
Pixel Type: U8
RasterFunction Infos: {"rasterFunctionInfos": [{
"name": "None",
"description": "",
"help": ""
}]}
Mensuration Capabilities: Basic
Has Histograms: true
Has Colormap: false
Has Multi Dimensions : false
Rendering Rule:
Min Scale: 0
Max Scale: 0
Copyright Text:
Service Data Type: esriImageServiceDataTypeRGB
Min Values: 0, 0, 0
Max Values: 255, 255, 255
Mean Values: 252.0408720406988, 252.0408720406988, 252.0408720406988
Standard Deviation Values: 26.13531756467636, 26.13531756467636, 26.13531756467636
Object ID Field:
Fields:
None
Default Mosaic Method: Center
Allowed Mosaic Methods:
SortField:
SortValue: null
Mosaic Operator: First
Default Compression Quality: 75
Default Resampling Method: Bilinear
Max Record Count: null
Max Image Height: 4100
Max Image Width: 15000
Max Download Image Count: null
Max Mosaic Image Count: null
Allow Raster Function: true
Allow Copy: null
Allow Analysis: null
Allow Compute TiePoints: false
Supports Statistics: false
Supports Advanced Queries: false
Use StandardizedQueries: true
Raster Type Infos:
Name: Raster Dataset
Description: Supports all ArcGIS Raster Datasets
Help:
Has Raster Attribute Table: false
Edit Fields Info: null
Ownership Based AccessControl For Rasters: null
Child Resources:
Info
Histograms
Key Properties
Legend
Raster Function Infos
Supported Operations:
Export Image
Identify
Measure
Compute Histograms
Compute Statistics Histograms
Get Samples
Compute Class Statistics
Query Boundary
Compute Pixel Location
Validate
Project